BEGIN:VCALENDAR
VERSION:2.0
METHOD:PUBLISH
PRODID:-//imacoda.com//SPD-Web-O-Mat//EN
CALSCALE:GREGORIAN
BEGIN:VTIMEZONE
TZID:Europe/Berlin
BEGIN:DAYLIGHT
TZOFFSETFROM:+0100
RRULE:FREQ=YEARLY;BYMONTH=3;BYDAY=-1SU
DTSTART:19810329T020000
TZNAME:MESZ
TZOFFSETTO:+0200
END:DAYLIGHT
BEGIN:STANDARD
TZOFFSETFROM:+0200
RRULE:FREQ=YEARLY;BYMONTH=10;BYDAY=-1SU
DTSTART:19961027T030000
TZNAME:MEZ
TZOFFSETTO:+0100
END:STANDARD
END:VTIMEZONE
BEGIN:VEVENT
UID:20260413T152450Z-00001186676-LULU@www.bayernspd.de
CREATED:20260413T152450Z
LAST-MODIFIED:20260413T152450Z
DTSTAMP:20260413T152450Z
TRANSP:TRANSPARENT
DTSTART;TZID=Europe/Berlin:20260415T183000
DTEND;TZID=Europe/Berlin:20260415T183000
SUMMARY:Mitgliederversammlung SPD Röthenbach an der Pegnitz
LOCATION:AWO Begegnungsstätte\, Röthenbach an der Pegnitz
DESCRIPTION:Termin im Web (SPD Röthenbach):\nhttps://spd-roethenbach.de/
 termine/?id=1186676
END:VEVENT
END:VCALENDAR
